BEGIN:VCALENDAR
VERSION:2.0
PRODID:-//Schönningstedt - ECPv6.15.16//NONSGML v1.0//EN
CALSCALE:GREGORIAN
METHOD:PUBLISH
X-WR-CALNAME:Schönningstedt
X-ORIGINAL-URL:https://www.schoenningstedt.de
X-WR-CALDESC:Veranstaltungen für Schönningstedt
REFRESH-INTERVAL;VALUE=DURATION:PT1H
X-Robots-Tag:noindex
X-PUBLISHED-TTL:PT1H
BEGIN:VTIMEZONE
TZID:Europe/Paris
BEGIN:DAYLIGHT
TZOFFSETFROM:+0100
TZOFFSETTO:+0200
TZNAME:CEST
DTSTART:20150329T010000
END:DAYLIGHT
BEGIN:STANDARD
TZOFFSETFROM:+0200
TZOFFSETTO:+0100
TZNAME:CET
DTSTART:20151025T010000
END:STANDARD
BEGIN:DAYLIGHT
TZOFFSETFROM:+0100
TZOFFSETTO:+0200
TZNAME:CEST
DTSTART:20160327T010000
END:DAYLIGHT
BEGIN:STANDARD
TZOFFSETFROM:+0200
TZOFFSETTO:+0100
TZNAME:CET
DTSTART:20161030T010000
END:STANDARD
BEGIN:DAYLIGHT
TZOFFSETFROM:+0100
TZOFFSETTO:+0200
TZNAME:CEST
DTSTART:20170326T010000
END:DAYLIGHT
BEGIN:STANDARD
TZOFFSETFROM:+0200
TZOFFSETTO:+0100
TZNAME:CET
DTSTART:20171029T010000
END:STANDARD
END:VTIMEZONE
BEGIN:VEVENT
DTSTART;TZID=Europe/Paris:20160320T170000
DTEND;TZID=Europe/Paris:20160320T210000
DTSTAMP:20260423T205148
CREATED:20160320T122137Z
LAST-MODIFIED:20160320T122137Z
UID:1033-1458493200-1458507600@www.schoenningstedt.de
SUMMARY:Trio Divertimento
DESCRIPTION:Das Trio Divertimento sind: Thomas Böttger\, Klavier – Karl Henke\, Violine und Gerda Angermann\, Violoncello \n\nDas Trio Divertimento spielt Werke von Felix Mendelssohn-Bartholdy\, Robert Schumann\, Thomas Böttger\, Siegfried Barchet\, Antonin Dvoràk\, Peter Tschaikowsky \nauf dem Foto: Gerda Angermann
URL:https://www.schoenningstedt.de/event/trio-divertimento/
LOCATION:Schloss Reinbek
CATEGORIES:Konzert
ATTACH;FMTTYPE=image/jpeg:https://www.schoenningstedt.de/wp-content/uploads/2016/03/csm_gerda-angermann_3fb202ce52_fa36fb4df1.jpg
END:VEVENT
END:VCALENDAR