BEGIN:VCALENDAR
VERSION:2.0
PRODID:-//Schönningstedt - ECPv6.15.16//NONSGML v1.0//EN
CALSCALE:GREGORIAN
METHOD:PUBLISH
X-WR-CALNAME:Schönningstedt
X-ORIGINAL-URL:https://www.schoenningstedt.de
X-WR-CALDESC:Veranstaltungen für Schönningstedt
REFRESH-INTERVAL;VALUE=DURATION:PT1H
X-Robots-Tag:noindex
X-PUBLISHED-TTL:PT1H
BEGIN:VTIMEZONE
TZID:Europe/Paris
BEGIN:DAYLIGHT
TZOFFSETFROM:+0100
TZOFFSETTO:+0200
TZNAME:CEST
DTSTART:20160327T010000
END:DAYLIGHT
BEGIN:STANDARD
TZOFFSETFROM:+0200
TZOFFSETTO:+0100
TZNAME:CET
DTSTART:20161030T010000
END:STANDARD
BEGIN:DAYLIGHT
TZOFFSETFROM:+0100
TZOFFSETTO:+0200
TZNAME:CEST
DTSTART:20170326T010000
END:DAYLIGHT
BEGIN:STANDARD
TZOFFSETFROM:+0200
TZOFFSETTO:+0100
TZNAME:CET
DTSTART:20171029T010000
END:STANDARD
BEGIN:DAYLIGHT
TZOFFSETFROM:+0100
TZOFFSETTO:+0200
TZNAME:CEST
DTSTART:20180325T010000
END:DAYLIGHT
BEGIN:STANDARD
TZOFFSETFROM:+0200
TZOFFSETTO:+0100
TZNAME:CET
DTSTART:20181028T010000
END:STANDARD
END:VTIMEZONE
BEGIN:VEVENT
DTSTART;TZID=Europe/Paris:20170507T100000
DTEND;TZID=Europe/Paris:20170507T140000
DTSTAMP:20260420T024644
CREATED:20170423T105001Z
LAST-MODIFIED:20170423T105001Z
UID:1391-1494151200-1494165600@www.schoenningstedt.de
SUMMARY:Reinbeker Pflanzenmarkt
DESCRIPTION:Am Sonntag\, 7. Mai 2017\, findet zwischen 10 und 14 Uhr bereits zum 38. Mal der beliebte Reinbeker Pflanzenmarkt statt.\nHier können – nur von privat an privat – Pflanzen und dazu gehörige Teile wie Vasen\, Blumenkübel usw. aus eigenem Bestand an Interessierte abgegeben werden. Der Preis ist Verhandlungssache\, gelegentlich wird auch getauscht oder geschenkt.\nFür einen Stand ist eine Anmeldung nicht erforderlich; zu beachten sind aber Regeln\, deren 2 wichtigste lauten: a) der Stand darf max. 3 Meter breit sein b) in der Feuerwehrzufahrt darf nicht geparkt werden.\nVor der Schlosshofmauer finden Sie an den Ständen des BUND Reinbek/ Wentorf (Veranstalter) Kaffee\, Kuchen und viele Infos.
URL:https://www.schoenningstedt.de/event/reinbeker-pflanzenmarkt/
LOCATION:Schloss Reinbek
CATEGORIES:Messe
ATTACH;FMTTYPE=image/gif:https://www.schoenningstedt.de/wp-content/uploads/2015/11/Schloss-reinbek.gif
END:VEVENT
END:VCALENDAR