BEGIN:VCALENDAR
VERSION:2.0
PRODID:-//Schönningstedt - ECPv6.15.16//NONSGML v1.0//EN
CALSCALE:GREGORIAN
METHOD:PUBLISH
X-WR-CALNAME:Schönningstedt
X-ORIGINAL-URL:https://www.schoenningstedt.de
X-WR-CALDESC:Veranstaltungen für Schönningstedt
REFRESH-INTERVAL;VALUE=DURATION:PT1H
X-Robots-Tag:noindex
X-PUBLISHED-TTL:PT1H
BEGIN:VTIMEZONE
TZID:Europe/Paris
BEGIN:DAYLIGHT
TZOFFSETFROM:+0100
TZOFFSETTO:+0200
TZNAME:CEST
DTSTART:20170326T010000
END:DAYLIGHT
BEGIN:STANDARD
TZOFFSETFROM:+0200
TZOFFSETTO:+0100
TZNAME:CET
DTSTART:20171029T010000
END:STANDARD
BEGIN:DAYLIGHT
TZOFFSETFROM:+0100
TZOFFSETTO:+0200
TZNAME:CEST
DTSTART:20180325T010000
END:DAYLIGHT
BEGIN:STANDARD
TZOFFSETFROM:+0200
TZOFFSETTO:+0100
TZNAME:CET
DTSTART:20181028T010000
END:STANDARD
BEGIN:DAYLIGHT
TZOFFSETFROM:+0100
TZOFFSETTO:+0200
TZNAME:CEST
DTSTART:20190331T010000
END:DAYLIGHT
BEGIN:STANDARD
TZOFFSETFROM:+0200
TZOFFSETTO:+0100
TZNAME:CET
DTSTART:20191027T010000
END:STANDARD
END:VTIMEZONE
BEGIN:VEVENT
DTSTART;TZID=Europe/Paris:20180305T170000
DTEND;TZID=Europe/Paris:20180305T200000
DTSTAMP:20260425T015252
CREATED:20180304T235514Z
LAST-MODIFIED:20180305T145327Z
UID:1507-1520269200-1520280000@www.schoenningstedt.de
SUMMARY:Ergebnispräsentation Stadtcheck Reinbek
DESCRIPTION:Ab 17 Uhr wird die Werkstatt eröffnet und um 18 Uhr werden Bürgermeister Björn Warmer und Julian Petrin\, Geschäftsführer des prozessbegleitenden Stadtplanungsbüros urbanista\, Grußworte sprechen und in die Diskussion der Ergebnisse einführen. Wir freuen uns auf eine angeregte Diskussion der Ergebnisse mit vielen interessierten Besucherinnen und Besucher.
URL:https://www.schoenningstedt.de/event/ergebnispraesentation-stadtcheck-reinbek/
LOCATION:Schloss Reinbek
CATEGORIES:Bauplanung
END:VEVENT
BEGIN:VEVENT
DTSTART;TZID=Europe/Paris:20180331T180000
DTEND;TZID=Europe/Paris:20180331T220000
DTSTAMP:20260425T015252
CREATED:20180326T210730Z
LAST-MODIFIED:20180326T210730Z
UID:1531-1522519200-1522533600@www.schoenningstedt.de
SUMMARY:Ostersteuer Samstag\, den 31.03.2018
DESCRIPTION:Oher Strasse auf dem Feld nebe der Feuerwache. \n 
URL:https://www.schoenningstedt.de/event/ostersteuer-samstag-den-31-03-2018/
LOCATION:Freiwillige Feuerwehr Schonningstedt\, Oher Straße\, Reinbek\, Schleswig-Holstein\, 21465\, Deutschland
CATEGORIES:Familie,Feuerwehr,Osterfeuer,Stadtteilfest
END:VEVENT
END:VCALENDAR