BEGIN:VCALENDAR
VERSION:2.0
PRODID:-//Schönningstedt - ECPv6.15.16//NONSGML v1.0//EN
CALSCALE:GREGORIAN
METHOD:PUBLISH
X-ORIGINAL-URL:https://www.schoenningstedt.de
X-WR-CALDESC:Veranstaltungen für Schönningstedt
REFRESH-INTERVAL;VALUE=DURATION:PT1H
X-Robots-Tag:noindex
X-PUBLISHED-TTL:PT1H
BEGIN:VTIMEZONE
TZID:Europe/Paris
BEGIN:DAYLIGHT
TZOFFSETFROM:+0100
TZOFFSETTO:+0200
TZNAME:CEST
DTSTART:20150329T010000
END:DAYLIGHT
BEGIN:STANDARD
TZOFFSETFROM:+0200
TZOFFSETTO:+0100
TZNAME:CET
DTSTART:20151025T010000
END:STANDARD
BEGIN:DAYLIGHT
TZOFFSETFROM:+0100
TZOFFSETTO:+0200
TZNAME:CEST
DTSTART:20160327T010000
END:DAYLIGHT
BEGIN:STANDARD
TZOFFSETFROM:+0200
TZOFFSETTO:+0100
TZNAME:CET
DTSTART:20161030T010000
END:STANDARD
BEGIN:DAYLIGHT
TZOFFSETFROM:+0100
TZOFFSETTO:+0200
TZNAME:CEST
DTSTART:20170326T010000
END:DAYLIGHT
BEGIN:STANDARD
TZOFFSETFROM:+0200
TZOFFSETTO:+0100
TZNAME:CET
DTSTART:20171029T010000
END:STANDARD
END:VTIMEZONE
BEGIN:VEVENT
DTSTART;TZID=Europe/Paris:20161111T180000
DTEND;TZID=Europe/Paris:20161111T200000
DTSTAMP:20260426T005920
CREATED:20160805T095438Z
LAST-MODIFIED:20160805T095455Z
UID:1232-1478887200-1478894400@www.schoenningstedt.de
SUMMARY:Treffen von der Initiative Freifunk Stormarn / Freifunk Lauenburg
DESCRIPTION:Der Freifunk-Treff für den Kreis Stormarn und Kreis Lauenburg im JUZ Reinbek (Schlossstr. 5-7\, Reinbek) findet in diesem Monat am Freitag\, den 11.November 2016 von 18:00 bis 20:00 Uhr statt. \nDie Themen für dieses Mal sind \n\nWas ist Freifunk\nWie nehme ich an „Freifunk“ teil\nHilfe bei der Einrichtung von Freifunk-Routern\n\n\nEs gibt keine Altersbegrenzung\, alle von 9 bis 99 Jahren sind\nwillkommen. Wer vorab Fragen hat kann sich gerne bei Marc unter\n040/60941223 oder per email an marc@freifunk-stormarn.de informieren. \nViele Grüße Marc Swenningshon
URL:https://www.schoenningstedt.de/event/treffen-von-der-initiative-freifunk-stormarn-freifunk-lauenburg-4/
LOCATION:JUZ Reinbek\, Schlossstr. 7\, Reinbek\, 21465\, Deutschland
END:VEVENT
BEGIN:VEVENT
DTSTART;TZID=Europe/Paris:20161115T180000
DTEND;TZID=Europe/Paris:20161127T160000
DTSTAMP:20260426T005920
CREATED:20161105T122424Z
LAST-MODIFIED:20161105T122424Z
UID:1342-1479232800-1480262400@www.schoenningstedt.de
SUMMARY:Adventsausstellung Floristik-Projekt
DESCRIPTION:Wie in jedem Jahr startet die Adventsausstellung der Floristen Britta Ohlrogge und Daniel Santamaria in Schönningstedt in der Woche vor dem 1. Advent. Bitte beachtet die unterschiedlichen Öffnungszeiten. Ab dem 28.11. bis zum 23.12. sind es wieder die „normalen Öffnungszeiten“ des Ladens. \nEröffnung\n15.11.16 ab 18 Uhr\n  \nAusstellung\n16.11.-27.11.16\nMo.-Sa.: 9:30 Uhr – 18 Uhr \nSo.:          11-16 Uhr \nab 28.11.-23.12.16\nMi.-Fr. 9:30 – 13:30 + 15 – 18 Uhr \nSa. 9:30 – 13 uhr
URL:https://www.schoenningstedt.de/event/adventsausstellung-floristik-projekt/
LOCATION:Floristik Projekt – Britta Ohlrogge+Daniel Santamaria\, Am Salteich 58\, Schönningstedt\, 21465
ATTACH;FMTTYPE=image/jpeg:https://www.schoenningstedt.de/wp-content/uploads/2015/11/Logo_Adventsausstellung20151-e1447256649999.jpg
ORGANIZER;CN="Floristik Projekt":MAILTO:danielsantamaria@floristik-projekt.com
END:VEVENT
BEGIN:VEVENT
DTSTART;TZID=Europe/Paris:20161121T193000
DTEND;TZID=Europe/Paris:20161121T210000
DTSTAMP:20260426T005920
CREATED:20161111T100651Z
LAST-MODIFIED:20161111T100935Z
UID:1344-1479756600-1479762000@www.schoenningstedt.de
SUMMARY:Einwohnerversammlung Reinbek - Gewerbeansiedlungen\, Wohnungsbau...
DESCRIPTION:Reinbek — Die Stadt Reinbek lädt ein zur Einwohnerversammlung am 21. November\, 19.30 Uhr\, in den Sitzungssaal\, 1. OG\, des Rathauses Reinbek\, Hamburger Straße 5-7. \nThema: Reinbeks Zukunft im Gespräch: \n• Fakten und Entwicklungen \n• Wohnungsbau \n• Gewerbeansiedlungen \n\nMehr ist nicht bekannt. Aber es wird sicher auch um die Gewerbeflächen und pot. Erweiterungen um Schönningstedt gehen! Die Sperrwirkung des Bürgerbegehrens läuft Mitte 2017 aus. \nBild nur zur Aufmerksamkeit und zur Erinnerung\, um was es im Bürgerbegehren ging und was verhindert wurde.
URL:https://www.schoenningstedt.de/event/einwohnerversammlung-reinbek-gewerbeansiedlungen-wohnungsbau/
LOCATION:Rathaus Reinbek\, Hamburger Straße 5 - 7\, Reinbek\, Schleswig-Holstein\, 21465\, Deutschland
CATEGORIES:Bauplanung
END:VEVENT
BEGIN:VEVENT
DTSTART;TZID=Europe/Paris:20161125T160000
DTEND;TZID=Europe/Paris:20161125T200000
DTSTAMP:20260426T005920
CREATED:20161124T195503Z
LAST-MODIFIED:20161124T195503Z
UID:1358-1480089600-1480104000@www.schoenningstedt.de
SUMMARY:Lichterfest 2016
DESCRIPTION:Feierliche Eröffnung der Reinbeker Weihnachtsbeleuchtung um 16 Uhr am Landhausplatz durch Björn Warmer (BM)\, Thomas Kanitz (GF e-werk Reinbek) und Jörn Kind (Vors. Gewerbebund) \nProgramm s. PDF: \nlichterfestreinbek-anz-a5-rz-final
URL:https://www.schoenningstedt.de/event/lichterfest-2016/
LOCATION:Landhausplatz\, Landhausplatz\, Reinbek\, 21465\, Deutschland
CATEGORIES:Familie
END:VEVENT
BEGIN:VEVENT
DTSTART;TZID=Europe/Paris:20161126T150000
DTEND;TZID=Europe/Paris:20161126T180000
DTSTAMP:20260426T005920
CREATED:20161124T201004Z
LAST-MODIFIED:20161124T201004Z
UID:1364-1480172400-1480183200@www.schoenningstedt.de
SUMMARY:Weihnachtsbasar der Sachsenwaldschule
DESCRIPTION:zu Gunsten des SOS-Kinderdorfes in Lütjenburg \nDie Kinder haben wieder viel gebastelt\, gebacken – und die Eltern waren bestimmt auch sehr fleißig 😉 \nAlle freuen sich\, wenn viel gekauft wird! Der Weihnachtsbasar ist für jedermann!
URL:https://www.schoenningstedt.de/event/weihnachtsbasar-der-sachsenwaldschule/
LOCATION:Sachsenwaldschule\, Schulstraße 19\, Reinbek\, 21465\, Deutschland
END:VEVENT
END:VCALENDAR