BEGIN:VCALENDAR
VERSION:2.0
PRODID:-//Schönningstedt - ECPv6.15.16//NONSGML v1.0//EN
CALSCALE:GREGORIAN
METHOD:PUBLISH
X-ORIGINAL-URL:https://www.schoenningstedt.de
X-WR-CALDESC:Veranstaltungen für Schönningstedt
REFRESH-INTERVAL;VALUE=DURATION:PT1H
X-Robots-Tag:noindex
X-PUBLISHED-TTL:PT1H
BEGIN:VTIMEZONE
TZID:Europe/Paris
BEGIN:DAYLIGHT
TZOFFSETFROM:+0100
TZOFFSETTO:+0200
TZNAME:CEST
DTSTART:20170326T010000
END:DAYLIGHT
BEGIN:STANDARD
TZOFFSETFROM:+0200
TZOFFSETTO:+0100
TZNAME:CET
DTSTART:20171029T010000
END:STANDARD
BEGIN:DAYLIGHT
TZOFFSETFROM:+0100
TZOFFSETTO:+0200
TZNAME:CEST
DTSTART:20180325T010000
END:DAYLIGHT
BEGIN:STANDARD
TZOFFSETFROM:+0200
TZOFFSETTO:+0100
TZNAME:CET
DTSTART:20181028T010000
END:STANDARD
BEGIN:DAYLIGHT
TZOFFSETFROM:+0100
TZOFFSETTO:+0200
TZNAME:CEST
DTSTART:20190331T010000
END:DAYLIGHT
BEGIN:STANDARD
TZOFFSETFROM:+0200
TZOFFSETTO:+0100
TZNAME:CET
DTSTART:20191027T010000
END:STANDARD
END:VTIMEZONE
BEGIN:VEVENT
DTSTART;TZID=Europe/Paris:20181201T160000
DTEND;TZID=Europe/Paris:20181201T170000
DTSTAMP:20260424T153014
CREATED:20181107T214211Z
LAST-MODIFIED:20181107T214728Z
UID:1681-1543680000-1543683600@www.schoenningstedt.de
SUMMARY:Adventskonzert2018 mit Przemysław & Patrycja Hałuszczak Musik- oder Gesangsduo aus Polen (spanischen und südamerikanischen Klänge\, Flamenco vs. Adventslieder) – 1. Dezember um 16.00 Uhr in der Christ- König-Kirche in Lokstedt
DESCRIPTION:« Alle Veranstaltungen \n\n\n\nADVENTSFEIER \nWie schon seit vielen Jahren laden wir Sie in der Adventszeit zum Konzert in die Christ-König-Kirche in Lokstedt ein\, zu dem wir immer eine Musik- oder Gesangsgruppe aus Polen einladen. In diesem Jahr ist es Przemysław Hałuszczak\, ein Gitarre-Virtuose\, der in Posen an der Musikhochschule studierte und sich schon während des Studiums für die spanischen und südamerikanischen Klänge\, Flamenco entschieden hat. Der Musiker arbeitet auch als Komponist mit mehreren Theatern in Posen und tritt in Konzerten in Polen\, Deutschland\, Schweiz\, Russland und Norwegen auf. Er kommt nach Hamburg in Begleitung seiner Tochter\, Patrycja Hałuszczak\, Vokal\, Gitarre und Cahon. So werden wir Ihnen in diesem Jahr eine besondere Mischung aus Flamenco-Musik und  polnischen und deutschen Weihnachtslieder präsentieren. \nDie Künstler treten am Samstag\, den  1. Dezember um 16.00 Uhr  in der Christ- König-Kirche in Lokstedt\, Bei der Lutherbuche 36 auf.  Anschließend\, ab 17.30 Uhr findet im Gemeindesaal unsere traditionelle Adventsfeier statt. Wir werden für Sie wieder typische Gerichte der polnischen Küche vorbereiten. Bei Kerzenlicht und Wein werden wir mit den Künstlern Lieder singen\, eine Weihnachtsgeschichte hören und das Zusammensein genießen. \n \nUm besser planen zu können\, bitten wir Sie\, uns  mitzuteilen\, ob Sie teilnehmen möchten und mit wie vielen Personen Sie kommen werden. Sie können uns anrufen (040/59 49 07 oder 040 830 12 21) oder eine E-Mail senden (ha.zillmer@web.de oder krizak_viola@hotmail.com). Wir bitten um Rückmeldung bis zum 27. November 2018. \nDie Kirche erreichen Sie mit der U 1 (Station Kellinghusenstr.) und weiter mit Bus 22\, mit der U 2 (Station Hagenbecks Tierpark) und weiter mit der Buslinie 281 bis Grandweg oder mit der U 3 (Station Hoheluftbrücke) weiter mit Buslinie 5 bis Siemersplatz\, dann noch 5 Minuten Fußweg. \n \n \n \n  \n\n+ zu Google Kalender hinzufügen+ Exportiere iCal\n\n\nDetails\n\nDatum:\n Dezember 1 \nZeit:\n\n16:00 – 17:30\n\nVeranstaltungkategorien:\nAdvent\, Adventsfeier\, Adventskonzert\, Christ-König-Kirche\, Deutsch-Polnische Gesellschaft Hamburg\, DPG Hamburg\n\n\n\nVeranstalter\n\nDeutsch-Polnische Gesellschaft Hamburg e.V.\nTelefon:\n+ 49 (0) 176 – 790 606 82\nE-Mail:\ninfo@dpg.hamburg\nWebsite:\nwww.dpg-Hamburg.de\n\n\n\n\n\nVeranstaltungsort\n\nEv.- Luth. Christ-König-Kirche\n\n Bei der Lutherbuche 36\nHamburg\, Hamburg Deutschland  + Google Karte\n\n\n\n\n\n\n\n\n\n\n\n« Finissage der Ausstellung „Wladyslaw Bartoszewski (1922-2015) Widerstand – Erinnerung – Versöhnung“ – 20.November2018 14:30Uhr – Mahnmal St. Nikolai\nKLAUSURTAGUNG 2018 – 12.-13.Januar2019 – Akademie am See\, Koppelsberg in Plön »\n\n\n\n\n\n\n\n\n\n\n\n\nAdministration\n\nAnmelden\nBeitrags-Feed (RSS)\nKommentare als RSS\nWordPress.org\n\n\n\n\n\nCopyright\n\nby dpg.hamburg \n\n\n\n\n\nTo Know\n\n\nDatenschutzerklärung\nImpressum\nTools\nWebmaster\n\nmore\n\n\n\n\n\n\n\n\n\n\n\n\n\n\n© 2018 Deutsch-Polnische Gesellschaft Hamburg e.V. – Alle Rechte vorbehalten \n Powered by  – Entworfen mit dem Customizr-Theme
URL:https://www.schoenningstedt.de/event/adventskonzert2018-mit-przemyslaw-patrycja-haluszczak-musik-oder-gesangsduo-aus-polen-spanischen-und-suedamerikanischen-klaenge-flamenco-1-dezember-um-16-00-uhr-in-der-christ-koenig/
LOCATION:Ev.- Luth. Christ-König-Kirche\, Bei der Lutherbuche 36\, Hamburg (Lokstedt)\, Hamburg\, 22529\, Deutschland
CATEGORIES:Christ-König-Kirche,Deutsch-Polnische Gesellschaft Hamburg,EV. Kirche,Familie,Konzert
ORGANIZER;CN="Deutsch-Polnische Gesellschaft":MAILTO:b.rat@dpg-hamburg.de
END:VEVENT
END:VCALENDAR