BEGIN:VCALENDAR
VERSION:2.0
PRODID:-//Schönningstedt - ECPv6.15.16//NONSGML v1.0//EN
CALSCALE:GREGORIAN
METHOD:PUBLISH
X-ORIGINAL-URL:https://www.schoenningstedt.de
X-WR-CALDESC:Veranstaltungen für Schönningstedt
REFRESH-INTERVAL;VALUE=DURATION:PT1H
X-Robots-Tag:noindex
X-PUBLISHED-TTL:PT1H
BEGIN:VTIMEZONE
TZID:Europe/Paris
BEGIN:DAYLIGHT
TZOFFSETFROM:+0100
TZOFFSETTO:+0200
TZNAME:CEST
DTSTART:20170326T010000
END:DAYLIGHT
BEGIN:STANDARD
TZOFFSETFROM:+0200
TZOFFSETTO:+0100
TZNAME:CET
DTSTART:20171029T010000
END:STANDARD
BEGIN:DAYLIGHT
TZOFFSETFROM:+0100
TZOFFSETTO:+0200
TZNAME:CEST
DTSTART:20180325T010000
END:DAYLIGHT
BEGIN:STANDARD
TZOFFSETFROM:+0200
TZOFFSETTO:+0100
TZNAME:CET
DTSTART:20181028T010000
END:STANDARD
BEGIN:DAYLIGHT
TZOFFSETFROM:+0100
TZOFFSETTO:+0200
TZNAME:CEST
DTSTART:20190331T010000
END:DAYLIGHT
BEGIN:STANDARD
TZOFFSETFROM:+0200
TZOFFSETTO:+0100
TZNAME:CET
DTSTART:20191027T010000
END:STANDARD
END:VTIMEZONE
BEGIN:VEVENT
DTSTART;VALUE=DATE:20180922
DTEND;VALUE=DATE:20180923
DTSTAMP:20260424T192451
CREATED:20180627T220201Z
LAST-MODIFIED:20180922T150626Z
UID:1602-1537574400-1537660799@www.schoenningstedt.de
SUMMARY:Dorfgemeinschaftfest: Schönningstedt... HURRAAAA DER HEEBST IST DA
DESCRIPTION:Dorfgemeinschaftfest\nIm Rahmen der Reinbeker Kulturwoche\, „ Reinbek verbindet Jung und Alt“\, laden wir Sie recht herzlich ein zum Dorfgemeinschaftfest.\nWir beginnen mit einem gemeinsamen Gottesdienst am\nSamstag\, 22.9.2018 um 9.30 Uhr\nin der Ansgarkirche in Schönningstedt\nmit Pastor Kleinhempel.\nUnser Dorfgemeinschaftsfest “Schönningstedt lädt ein“\, findet auf dem Gelände der Ansgarkirche und auf dem Festplatz in der neuen Siedlung statt.\nWas heißt „Verbindet Jung und Alt“?\nWir die Heimatfreunde Schönningstedt-Ohe e.V. \, die Schule\, der Kindergarten\, die Feuerwehr\, das DRK \, das Seniorencentrum Bismarckstift und die Ansgarkirche\, haben uns die Aufgabe gestellt\, was verbindet Jung und Alt?\nDabei sind wir auf viele Sachen gestoßen. Also lassen Sie sich überraschen und besuchen Sie unser Gemeinschaftsfest.\nMonika Pelka\, 1. Vorsitzende Heimatfreunde Schönningstedt-Ohe e.V.
URL:https://www.schoenningstedt.de/event/dorfgemeinschaftfest-schoenningstedt/
LOCATION:Festwiese Schönningstedt\, zw.Am Salteich und Haferkamp\, Reinbek OT Schönningstedt\, Deutschland
CATEGORIES:Familie,Stadtteilfest
ORGANIZER;CN="Ev.-Luth. Ansgar Kirchengemeinde Sch%C3%B6nningstedt-Ohe":MAILTO:kontakt@ansgar-kgso.de
END:VEVENT
BEGIN:VEVENT
DTSTART;TZID=Europe/Paris:20180922T200000
DTEND;TZID=Europe/Paris:20180922T233000
DTSTAMP:20260424T192451
CREATED:20180822T153250Z
LAST-MODIFIED:20180922T154530Z
UID:1646-1537646400-1537659000@www.schoenningstedt.de
SUMMARY:Open Air Crazy Crackers
DESCRIPTION:
URL:https://www.schoenningstedt.de/event/open-air-crazy-crackers/
LOCATION:Kleiner Rasthof\, Königstrasse\, Schleswig-Holstein\, Deutschland
CATEGORIES:Konzert,Stadtteilfest
END:VEVENT
END:VCALENDAR