BEGIN:VCALENDAR
VERSION:2.0
PRODID:-//Schönningstedt - ECPv6.15.16//NONSGML v1.0//EN
CALSCALE:GREGORIAN
METHOD:PUBLISH
X-ORIGINAL-URL:https://www.schoenningstedt.de
X-WR-CALDESC:Veranstaltungen für Schönningstedt
REFRESH-INTERVAL;VALUE=DURATION:PT1H
X-Robots-Tag:noindex
X-PUBLISHED-TTL:PT1H
BEGIN:VTIMEZONE
TZID:Europe/Paris
BEGIN:DAYLIGHT
TZOFFSETFROM:+0100
TZOFFSETTO:+0200
TZNAME:CEST
DTSTART:20170326T010000
END:DAYLIGHT
BEGIN:STANDARD
TZOFFSETFROM:+0200
TZOFFSETTO:+0100
TZNAME:CET
DTSTART:20171029T010000
END:STANDARD
BEGIN:DAYLIGHT
TZOFFSETFROM:+0100
TZOFFSETTO:+0200
TZNAME:CEST
DTSTART:20180325T010000
END:DAYLIGHT
BEGIN:STANDARD
TZOFFSETFROM:+0200
TZOFFSETTO:+0100
TZNAME:CET
DTSTART:20181028T010000
END:STANDARD
BEGIN:DAYLIGHT
TZOFFSETFROM:+0100
TZOFFSETTO:+0200
TZNAME:CEST
DTSTART:20190331T010000
END:DAYLIGHT
BEGIN:STANDARD
TZOFFSETFROM:+0200
TZOFFSETTO:+0100
TZNAME:CET
DTSTART:20191027T010000
END:STANDARD
END:VTIMEZONE
BEGIN:VEVENT
DTSTART;TZID=Europe/Paris:20180603T093000
DTEND;TZID=Europe/Paris:20180603T103000
DTSTAMP:20260424T231154
CREATED:20180217T193748Z
LAST-MODIFIED:20180217T212511Z
UID:1500-1528018200-1528021800@www.schoenningstedt.de
SUMMARY:Liebe Neuzugezogene im Wohngebiet zwischen Königstraße und Am Salteich!
DESCRIPTION:Herzlich Willkommen in unserem Dorf Schönningstedt und in unserer Ansgar Kirchengemeinde. Wie Sie sicher schon bemerkt haben\, liegt unsere kleine St. Ansgar Kirche direkt am Rand Ihres Wohngebietes.\nMittlerweile sind Sie fast alle in Ihre neuen Häuser eingezogen.\nDie Wände eines Hauses sind wie eine dritte Haut – nach der ersten\, die unseren ganzen Körper umschließt und der zweiten\, die aus unserer Kleidung besteht. So sieht es jedenfalls Friedensreich Hundertwasser\, der österreichische Künstler. Diese Sicht finde ich einleuchtend und erhellend. Wir wünschen Ihnen also\, dass Sie sich in Ihrer dritten neuen Haut wohlfühlen! Möge Ihnen Ihr neues Haus Rückzugsort und Schutzraum sein\, in dem Sie sich geborgen fühlen. Möge es ein Raum sein\, in dem sich Ihr Leben weiter entfaltet und segensreich gedeiht.\nLebendig und liebevoll möge es dort zugehen\, wie von Sonne durchflutet.\nMein Weg zu einer Kaffeepause im Kleinen Rasthof bei Sigi führt mich mehrmals in der Woche durch Ihr Wohngebiet. So konnte ich beobachten\, wie ihre Häuser heranwuchsen. Jedes Haus\, so scheint mir\, hat ein individuelles Gesicht. Ich gratuliere Ihnen zu Ihrem neuen Domizil! Vor der einen oder anderen Haustür habe ich schon gestanden und bei Ihnen geklingelt. Manche Kontakte haben sich so oder auf andere Weise bereits ergeben\, z.B. durch Ihren Besuch eines Gottesdienstes oder einer unserer Veranstaltungen. Schmökern Sie doch bitte ein wenig in diesem Blatt über die Angebote die wir machen und suchen Sie das heraus\, was Sie anspricht. Der Gesprächskreis\, unser Gemeindenachmittag\, der Kirchenchor oder der Klönschnack\nüber eine Tasse Kaffee hinweg im Anschluss an einen Gottesdienst bieten Möglichkeiten einander kennenzulernen.\nWir möchten Sie gern in einem besonderen Gottesdienst begrüßen am\nSonntag\, 03. Juni 2018 um 09.30 Uhr\nin der St. Ansgar Kirche\, Am Salteich\nIm Anschluss an den Gottesdienst ziehen wir mit Kaffee\, Tee und Gebäck zur „Festwiese“ Ihres neuen Wohngebietes. Dort weihen wir zwei Bänke ein\, die Ihre Kirchengemeinde Ihnen zum Verweilen spendet.\nSeien Sie behütet und gesegnet. \nIhr Pastor Benedikt Kleinhempel
URL:https://www.schoenningstedt.de/event/liebe-neuzugezogene-im-wohngebiet-zwischen-koenigstrasse-und-am-salteich/
LOCATION:St. Ansgar Kirche\, Am Salteich 7\, Reinbek\, Hamburg\, 21465\, Deutschland
CATEGORIES:EV. Kirche,Familie,St. Ansgar Kirche
ORGANIZER;CN="Ev.-Luth. Ansgar Kirchengemeinde Sch%C3%B6nningstedt-Ohe":MAILTO:kontakt@ansgar-kgso.de
END:VEVENT
END:VCALENDAR