BEGIN:VCALENDAR
VERSION:2.0
PRODID:-//Schönningstedt - ECPv6.15.16//NONSGML v1.0//EN
CALSCALE:GREGORIAN
METHOD:PUBLISH
X-ORIGINAL-URL:https://www.schoenningstedt.de
X-WR-CALDESC:Veranstaltungen für Schönningstedt
REFRESH-INTERVAL;VALUE=DURATION:PT1H
X-Robots-Tag:noindex
X-PUBLISHED-TTL:PT1H
BEGIN:VTIMEZONE
TZID:Europe/Paris
BEGIN:DAYLIGHT
TZOFFSETFROM:+0100
TZOFFSETTO:+0200
TZNAME:CEST
DTSTART:20150329T010000
END:DAYLIGHT
BEGIN:STANDARD
TZOFFSETFROM:+0200
TZOFFSETTO:+0100
TZNAME:CET
DTSTART:20151025T010000
END:STANDARD
BEGIN:DAYLIGHT
TZOFFSETFROM:+0100
TZOFFSETTO:+0200
TZNAME:CEST
DTSTART:20160327T010000
END:DAYLIGHT
BEGIN:STANDARD
TZOFFSETFROM:+0200
TZOFFSETTO:+0100
TZNAME:CET
DTSTART:20161030T010000
END:STANDARD
BEGIN:DAYLIGHT
TZOFFSETFROM:+0100
TZOFFSETTO:+0200
TZNAME:CEST
DTSTART:20170326T010000
END:DAYLIGHT
BEGIN:STANDARD
TZOFFSETFROM:+0200
TZOFFSETTO:+0100
TZNAME:CET
DTSTART:20171029T010000
END:STANDARD
END:VTIMEZONE
BEGIN:VEVENT
DTSTART;TZID=Europe/Paris:20161029T180000
DTEND;TZID=Europe/Paris:20161029T193000
DTSTAMP:20260426T034415
CREATED:20161001T114933Z
LAST-MODIFIED:20161001T115050Z
UID:1329-1477764000-1477769400@www.schoenningstedt.de
SUMMARY:Laterne laufen - Ferienende
DESCRIPTION:Laternenumzug zum Ausklang der Herbstferien – unter dem Motto – Laterne laufen mit der Feuerwehr\, dem Kindergarten\, der Grundschule und den Heimatfreunden Schönningstedt-Ohe. \n\nTreffpunkt : St. Ansgar Kirche\, Schönningstedt – Am Salteich \n\n\nVeranstaltungsort: Treffpunkt St. Ansgar Kirche Schönningstedt\, Am Salteich\nVeranstalter: FF – Schönningstedt und Heimatfreunde Schönningstedt-Ohe\nEintritt: frei\nUhrzeit: 18.00 h
URL:https://www.schoenningstedt.de/event/laterne-laufen-ferienende/
LOCATION:Gemeindehaus der Ansgar Kirchengemeinde Reinbek OT Schönningstedt\, Am Salteich 7\, Reinbek\, Schleswig-Holstein\, 21465\, Deutschland
CATEGORIES:Familie
ATTACH;FMTTYPE=image/jpeg:https://www.schoenningstedt.de/wp-content/uploads/2014/10/P1010003.jpg
ORGANIZER;CN="Freiwilligen Feuerwehr Schonningstedt":MAILTO:info@ff-schoenningstedt.de
END:VEVENT
END:VCALENDAR