BEGIN:VCALENDAR
VERSION:2.0
PRODID:-//Schönningstedt - ECPv6.15.16//NONSGML v1.0//EN
CALSCALE:GREGORIAN
METHOD:PUBLISH
X-ORIGINAL-URL:https://www.schoenningstedt.de
X-WR-CALDESC:Veranstaltungen für Schönningstedt
REFRESH-INTERVAL;VALUE=DURATION:PT1H
X-Robots-Tag:noindex
X-PUBLISHED-TTL:PT1H
BEGIN:VTIMEZONE
TZID:Europe/Paris
BEGIN:DAYLIGHT
TZOFFSETFROM:+0100
TZOFFSETTO:+0200
TZNAME:CEST
DTSTART:20150329T010000
END:DAYLIGHT
BEGIN:STANDARD
TZOFFSETFROM:+0200
TZOFFSETTO:+0100
TZNAME:CET
DTSTART:20151025T010000
END:STANDARD
BEGIN:DAYLIGHT
TZOFFSETFROM:+0100
TZOFFSETTO:+0200
TZNAME:CEST
DTSTART:20160327T010000
END:DAYLIGHT
BEGIN:STANDARD
TZOFFSETFROM:+0200
TZOFFSETTO:+0100
TZNAME:CET
DTSTART:20161030T010000
END:STANDARD
BEGIN:DAYLIGHT
TZOFFSETFROM:+0100
TZOFFSETTO:+0200
TZNAME:CEST
DTSTART:20170326T010000
END:DAYLIGHT
BEGIN:STANDARD
TZOFFSETFROM:+0200
TZOFFSETTO:+0100
TZNAME:CET
DTSTART:20171029T010000
END:STANDARD
END:VTIMEZONE
BEGIN:VEVENT
DTSTART;TZID=Europe/Paris:20161023T190000
DTEND;TZID=Europe/Paris:20161023T220000
DTSTAMP:20260426T034403
CREATED:20161001T114719Z
LAST-MODIFIED:20161001T114719Z
UID:1325-1477249200-1477260000@www.schoenningstedt.de
SUMMARY:Spielegruppe Reinbek - generationsübergreifendes Spielen von Gesellschaftsspielen
DESCRIPTION:Zusammen spielen! Seit über 11 Jahren treffen sich Leute\, um miteinander verschiedene Gesellschaftsspiele zu spielen. Dabei ist es nicht wichtig\, ob man das Spiel kennt; jedes Spiel wird erklärt! Gern auch das eigene Lieblingsspiel mitbringen … \n\nVeranstaltungsort: Jürgen-Rickertsen-Haus\, Schulstraße 7 in Reinbek\nVeranstalter: Spielekreis Reinbek\nEintritt: frei\nUhrzeit: 19-22 Uhr
URL:https://www.schoenningstedt.de/event/spielegruppe-reinbek-generationsuebergreifendes-spielen-von-gesellschaftsspielen/
LOCATION:Jürgen-Rickertsen-Haus\, Schulstraße 7\, Reinbek\, Schleswig-Holstein\, 21465\, Deutschland
END:VEVENT
END:VCALENDAR