BEGIN:VCALENDAR
VERSION:2.0
PRODID:-//Schönningstedt - ECPv6.15.16//NONSGML v1.0//EN
CALSCALE:GREGORIAN
METHOD:PUBLISH
X-ORIGINAL-URL:https://www.schoenningstedt.de
X-WR-CALDESC:Veranstaltungen für Schönningstedt
REFRESH-INTERVAL;VALUE=DURATION:PT1H
X-Robots-Tag:noindex
X-PUBLISHED-TTL:PT1H
BEGIN:VTIMEZONE
TZID:Europe/Paris
BEGIN:DAYLIGHT
TZOFFSETFROM:+0100
TZOFFSETTO:+0200
TZNAME:CEST
DTSTART:20150329T010000
END:DAYLIGHT
BEGIN:STANDARD
TZOFFSETFROM:+0200
TZOFFSETTO:+0100
TZNAME:CET
DTSTART:20151025T010000
END:STANDARD
BEGIN:DAYLIGHT
TZOFFSETFROM:+0100
TZOFFSETTO:+0200
TZNAME:CEST
DTSTART:20160327T010000
END:DAYLIGHT
BEGIN:STANDARD
TZOFFSETFROM:+0200
TZOFFSETTO:+0100
TZNAME:CET
DTSTART:20161030T010000
END:STANDARD
BEGIN:DAYLIGHT
TZOFFSETFROM:+0100
TZOFFSETTO:+0200
TZNAME:CEST
DTSTART:20170326T010000
END:DAYLIGHT
BEGIN:STANDARD
TZOFFSETFROM:+0200
TZOFFSETTO:+0100
TZNAME:CET
DTSTART:20171029T010000
END:STANDARD
END:VTIMEZONE
BEGIN:VEVENT
DTSTART;TZID=Europe/Paris:20161015T110000
DTEND;TZID=Europe/Paris:20161016T180000
DTSTAMP:20260426T034409
CREATED:20161001T114455Z
LAST-MODIFIED:20161001T114455Z
UID:1322-1476529200-1476640800@www.schoenningstedt.de
SUMMARY:Reinbeker Hochzeitsmesse
DESCRIPTION:Zum 20. Mal findet die weit über Reinbeks Stadtgrenzen hinaus bekannte und beliebteHochzeitsmesse statt. \n\nAn vielen Messeständen wird alles geboten\, was am schönsten Tag im Leben nicht fehlen sollte: Garderobe & Accessoires für Braut \, Bräutigam und Hochzeitsgesellschaft\,\nHochzeitsfotos\, Einladungskarten\, Anregungen zur Ausgestaltung Ihrer Hochzeitsfeier\, Musik\, Deko sowie Trauringe. \n\n\nVeranstaltungsort: Schloss Reinbek\nVeranstalter: Kulturzentrum Reinbek\nEintritt: € 6\,00\nUhrzeit: 11-18 Uhr
URL:https://www.schoenningstedt.de/event/reinbeker-hochzeitsmesse/
LOCATION:Schloss Reinbek
CATEGORIES:Messe
ATTACH;FMTTYPE=image/jpeg:https://www.schoenningstedt.de/wp-content/uploads/2016/10/csm_HZM_putte_01_322a090b5b.jpg
END:VEVENT
END:VCALENDAR