BEGIN:VCALENDAR
VERSION:2.0
PRODID:-//Schönningstedt - ECPv6.15.16//NONSGML v1.0//EN
CALSCALE:GREGORIAN
METHOD:PUBLISH
X-ORIGINAL-URL:https://www.schoenningstedt.de
X-WR-CALDESC:Veranstaltungen für Schönningstedt
REFRESH-INTERVAL;VALUE=DURATION:PT1H
X-Robots-Tag:noindex
X-PUBLISHED-TTL:PT1H
BEGIN:VTIMEZONE
TZID:Europe/Paris
BEGIN:DAYLIGHT
TZOFFSETFROM:+0100
TZOFFSETTO:+0200
TZNAME:CEST
DTSTART:20150329T010000
END:DAYLIGHT
BEGIN:STANDARD
TZOFFSETFROM:+0200
TZOFFSETTO:+0100
TZNAME:CET
DTSTART:20151025T010000
END:STANDARD
BEGIN:DAYLIGHT
TZOFFSETFROM:+0100
TZOFFSETTO:+0200
TZNAME:CEST
DTSTART:20160327T010000
END:DAYLIGHT
BEGIN:STANDARD
TZOFFSETFROM:+0200
TZOFFSETTO:+0100
TZNAME:CET
DTSTART:20161030T010000
END:STANDARD
BEGIN:DAYLIGHT
TZOFFSETFROM:+0100
TZOFFSETTO:+0200
TZNAME:CEST
DTSTART:20170326T010000
END:DAYLIGHT
BEGIN:STANDARD
TZOFFSETFROM:+0200
TZOFFSETTO:+0100
TZNAME:CET
DTSTART:20171029T010000
END:STANDARD
END:VTIMEZONE
BEGIN:VEVENT
DTSTART;TZID=Europe/Paris:20161007T190000
DTEND;TZID=Europe/Paris:20161007T230000
DTSTAMP:20260426T034345
CREATED:20161001T113750Z
LAST-MODIFIED:20161001T113750Z
UID:1312-1475866800-1475881200@www.schoenningstedt.de
SUMMARY:Das Original Krimidinner - Hochzeit in Schwarz
DESCRIPTION:Zur Hochzeitsfeier von Cora\, der Tochter des verstorbenen Lord Ashtonburry\, finden sich Verwandte und Anverwandte auf dem Stammsitz der Familie Ashtonburry ein. Lady Ashtonburry\, Coras Stiefmutter\, begrüßt die geladenen Gäste im Speisesaal von Schloss Darkwood\, einem altehrwürdigen Herrenhaus in Schottland. \nCora Tilling feiert ihre lang ersehnte Hochzeit mit Peter Ross. Einige Familienangehörige sind darüber gar nicht begeistert. Sie setzen alles daran\, dem jungen Glück jede Menge Steine in den Weg zu legen. Die Hochzeitsgeschenke sind gespickt mit üblen Verdächtigungen. Was sich im Verlauf des delikaten 4-Gänge-Hochzeits-Menüs abspielt\, lässt vielfältige Spekulationen zu. \nWie kam der Bräutigam\, der sonst all sein Geld verspielt\, so überraschend zu Reichtum? Welches Geheimnis verbirgt die mittellose Braut? Warum lässt der sonst so zuverlässige Pfarrer so lange auf sich warten? Keine Sorge\, bei einer Hochzeit kann ja schließlich niemandem etwas zustoßen! Oder\, vielleicht doch? \n\nVeranstaltungsort: Gut Schönau\, Reinbek-Ohe\nVeranstalter: World of Dinner GmbH & Co. KG\nEintritt / Vorverkauf: 79\,00 € p.P. inkl. 4-Gänge-Menü und einem Aperitif / nur unter Tel-Nr. 0201 201 201\nUhrzeit: 19:00 Uhr bis 23:00 Uhr
URL:https://www.schoenningstedt.de/event/das-original-krimidinner-hochzeit-in-schwarz/
LOCATION:Gut Schönau\, Ohe\, 21465\, Deutschland
CATEGORIES:Theater
ATTACH;FMTTYPE=image/jpeg:https://www.schoenningstedt.de/wp-content/uploads/2016/10/csm_DasOriginalKRIMIDINNER_Hochzeit-in-Schwarz_03_w_2772e0a753.jpg
END:VEVENT
BEGIN:VEVENT
DTSTART;TZID=Europe/Paris:20161007T200000
DTEND;TZID=Europe/Paris:20161007T220000
DTSTAMP:20260426T034345
CREATED:20161001T113306Z
LAST-MODIFIED:20161001T113306Z
UID:1309-1475870400-1475877600@www.schoenningstedt.de
SUMMARY:Anka Zink: "Leben in vollen Zügen" - …eigentlich wollen doch alle nur ankommen…
DESCRIPTION:Ein Reisebericht von und mit Anka Zink\n\nEin kabarettistischer Höhenflug mit komödiantischen Zügen über das Reisen. Anka Zink berichtet vom Überleben in der Luft\, zu Wasser und auf dem Lande; über den Menschen\, seine Sehnsucht nach der Ferne und dem Glück anzukommen. \nEs ist so schön\, die ausgefahrenen Geleise zu verlassen\, mal was ganz Ausgeflipptes zu tun\, nämlich „all inclusive“ buchen. Eine Reise durch den Kosmos unseres Universums. \n\n\nVeranstaltungsort: BeGe Neuschönningstedt\nVeranstalter: Kulturzentrum Reinbek\nEintritt / Vorverkauf: 14\,00 € / KulturKasse in der Stadtbibliothek und Office Shop in Neuschönningstedt\, Königsberger Str. 45\nUhrzeit: 20.00 Uhr
URL:https://www.schoenningstedt.de/event/anka-zink-leben-in-vollen-zuegen-eigentlich-wollen-doch-alle-nur-ankommen/
LOCATION:Begegnungsstätte Neuschönningstedt\,  Querweg 13\, Neuschönningstedt\, 21465\, Deutschland
ATTACH;FMTTYPE=image/jpeg:https://www.schoenningstedt.de/wp-content/uploads/2016/10/csm_Anka_Zink_Poster_Blanko_crop_296bc9ea11.jpg
END:VEVENT
END:VCALENDAR